BEGIN:VCALENDAR
VERSION:2.0
PRODID:-//Judy Sharer, Historical Romance Author - ECPv6.15.17.1//NONSGML v1.0//EN
CALSCALE:GREGORIAN
METHOD:PUBLISH
X-ORIGINAL-URL:https://judysharer.com
X-WR-CALDESC:Events for Judy Sharer, Historical Romance Author
REFRESH-INTERVAL;VALUE=DURATION:PT1H
X-Robots-Tag:noindex
X-PUBLISHED-TTL:PT1H
BEGIN:VTIMEZONE
TZID:America/New_York
BEGIN:DAYLIGHT
TZOFFSETFROM:-0500
TZOFFSETTO:-0400
TZNAME:EDT
DTSTART:20170312T070000
END:DAYLIGHT
BEGIN:STANDARD
TZOFFSETFROM:-0400
TZOFFSETTO:-0500
TZNAME:EST
DTSTART:20171105T060000
END:STANDARD
BEGIN:DAYLIGHT
TZOFFSETFROM:-0500
TZOFFSETTO:-0400
TZNAME:EDT
DTSTART:20180311T070000
END:DAYLIGHT
BEGIN:STANDARD
TZOFFSETFROM:-0400
TZOFFSETTO:-0500
TZNAME:EST
DTSTART:20181104T060000
END:STANDARD
BEGIN:DAYLIGHT
TZOFFSETFROM:-0500
TZOFFSETTO:-0400
TZNAME:EDT
DTSTART:20190310T070000
END:DAYLIGHT
BEGIN:STANDARD
TZOFFSETFROM:-0400
TZOFFSETTO:-0500
TZNAME:EST
DTSTART:20191103T060000
END:STANDARD
BEGIN:DAYLIGHT
TZOFFSETFROM:-0500
TZOFFSETTO:-0400
TZNAME:EDT
DTSTART:20200308T070000
END:DAYLIGHT
BEGIN:STANDARD
TZOFFSETFROM:-0400
TZOFFSETTO:-0500
TZNAME:EST
DTSTART:20201101T060000
END:STANDARD
END:VTIMEZONE
BEGIN:VEVENT
DTSTART;TZID=America/New_York:20190720T100000
DTEND;TZID=America/New_York:20190720T160000
DTSTAMP:20260422T153058
CREATED:20190710T191842Z
LAST-MODIFIED:20190710T191949Z
UID:484-1563616800-1563638400@judysharer.com
SUMMARY:Western PA Book Festival
DESCRIPTION:Visit author Judy Sharer at the 5th Annual Western PA Book Festival at the Mercer Area Middle/High School on July 20th between 10am and 4pm. Visit http://www.westpafestival.com for a list of authors attending this years event.\nThe first book in Judy’s historical romance series is titled\, Settler’s Life. Book two in her series titled Second Chance Life will be released this fall.\nOrder your copy now on Amazon\, Kindle\, Nook\, iTunes\, or Audible .com. Available in paperback\, EBook\, and audio book formats. Judy will have copies available for purchase at this book signing event. Stop by and say hello.\nIf you can’t attend the Western PA Book Festival visit Judy’s website: JudySharer.com for more information.\nPlease leave a comment or review on my author link or on Amazon.com\nFollow Judy on Facebook at JudySharerAuthor
URL:https://judysharer.com/event/western-pa-book-festival/
LOCATION:PA
END:VEVENT
BEGIN:VEVENT
DTSTART;TZID=America/New_York:20190719T100000
DTEND;TZID=America/New_York:20190719T140000
DTSTAMP:20260422T153058
CREATED:20190710T195012Z
LAST-MODIFIED:20190710T195012Z
UID:489-1563530400-1563544800@judysharer.com
SUMMARY:Book Signing - Quilter's Stash Plus
DESCRIPTION:Default Facebook Thumbnail of Judy Sharer Join Judy Sharer at Quilter’s Stash Plus for their Anniversary Sale on July 19th\, 500 Turnpike Ave. Clearfield\, PA. Judy will be available between 10am and 2pm to sign her book titled Settler’s Life\, the first book in her series titled A Plains Life. Book two in the series\, Second Chance Life will be released this fall.\nA Plains Life Series is a historical romance and family saga that follows the Clark family from Tidioute\, PA to Riley County Kansas in the 1850s. Why you may ask is Judy at a quilt shop holding a book signing? The story line for A Plains Life has a thread of quilting that runs through the story with a quilt and quilting taking place throughout the story. Judy is a quilter herself and weaved this thread of quilting into the story warming the hearts of many along the journey.\nOrder Settler’s Life now on Amazon\, Kindle\, Nook\, iTunes\, or Audible.com. Available in paperback\, EBook\, and audio book formats.\nJudy taught at the Clearfield\, County Career and Technology Center for twenty-one years. She hopes to see some old friends and former students stop by.\nThe Anniversary Sale features 15% off Fabric (some exclusions)\nSee you July 19th! The sale takes place from July 17 – 20th!
URL:https://judysharer.com/event/book-signing-quilters-stash-plus/
LOCATION:Quilter’s Stash Plus\, 500 Turnpike Ave\,\, Clearfield\, PA\, 16830\, United States
END:VEVENT
BEGIN:VEVENT
DTSTART;TZID=America/New_York:20190615T110000
DTEND;TZID=America/New_York:20190615T130000
DTSTAMP:20260422T153058
CREATED:20190528T174422Z
LAST-MODIFIED:20190528T184732Z
UID:450-1560596400-1560603600@judysharer.com
SUMMARY:Book signing - Waterford Public Library
DESCRIPTION:Join sweet historical romance author Judy Sharer\, author of Settler’s Life\, the first book in her series A Plains Life at the Waterford Public Library for a reading then questions and answers by the author starting at 11am.  A book signing will follow from 11:30 to 1pm. Bring your book for signing or Judy will also have books available for purchase the day of the signing. Drop in and say hello. Judy is a former Waterford resident now living in Warren Co. Support a local author today!
URL:https://judysharer.com/event/book-signing-waterford-public-library/
LOCATION:PA
END:VEVENT
BEGIN:VEVENT
DTSTART;TZID=America/New_York:20181103T110000
DTEND;TZID=America/New_York:20181103T140000
DTSTAMP:20260422T153058
CREATED:20181015T155444Z
LAST-MODIFIED:20181015T155558Z
UID:441-1541242800-1541253600@judysharer.com
SUMMARY:Herr Memorial Library - Reading and Book Signing - Settler's Life
DESCRIPTION:Judy Sharer author of a sweet historical romance\, Settler’s Life the first book in the series A Plains Life\, will host a reading from 11:00 -11:30am with time for questions. This will be followed by a book signing from 11:30 – 2:00pm at the Herr Memorial Library\, in Mifflinburg\, PA. Bring your books for signing. Judy will also have some books for sale the day of the event. She is looking forward to seeing friends from the area. Come visit and add a few more books to your reading list while you’re at the library.
URL:https://judysharer.com/event/herr-memorial-library-reading-and-book-signing-settlers-life/
LOCATION:Herr Memorial Library\, Market Street\, Mifflinburg\, PA\, 17844\, United States
END:VEVENT
BEGIN:VEVENT
DTSTART;TZID=America/New_York:20181016T173000
DTEND;TZID=America/New_York:20181016T200000
DTSTAMP:20260422T153058
CREATED:20180920T154343Z
LAST-MODIFIED:20180920T154343Z
UID:414-1539711000-1539720000@judysharer.com
SUMMARY:Panel Discussion and Book Signing – Settler’s Life
DESCRIPTION:Join Judy and three other local authors at the Corry Public Library for a panel discussion. Learn why these authors enjoy writing and hear them talk about their latest releases. Judy will be there early to sign books\, then plan to stay for the discussion and a drawing for gift baskets at the conclusion of the evening. Enjoy a night at the library. Add to your reading wish list or take a few books home to read. Come talk to local authors and have your book signed by Judy or one of the other authors on the panel. Look for the notice in The Corry Journal and stop by the library to pick up a flyer on the event. Hopes to see you there!
URL:https://judysharer.com/event/panel-discussion-and-book-signing-settlers-life/
LOCATION:Corry Public Library\, 117 West Washington St.\, Corry\, PA\, 16407
END:VEVENT
BEGIN:VEVENT
DTSTART;VALUE=DATE:20181011
DTEND;VALUE=DATE:20181013
DTSTAMP:20260422T153058
CREATED:20180912T183214Z
LAST-MODIFIED:20180912T183214Z
UID:406-1539216000-1539388799@judysharer.com
SUMMARY:Quilting on the Bayfront - Judy Sharer - Book Signing
DESCRIPTION:Author\, Judy Sharer will be signing her new release\, Settler’s Life\, the first book in her new series titled\, A Plains Life   on October 11th and 12th between 10am and 4pm. \n Visit the quilt show and vender mall\, then stop by and visit with Judy and have your copy of  Settler’s Life   signed by the author. Order now on Amazon.com or other online retailers to have your copy in time for the show. Judy will also have a limited number of books with her\, so order now and bring your own copy to be signed.\nPlease notice the quilt on the clothes line and know that there is a thread of a quilt that runs through this sweet historical romance that will tug at your heart strings.\nCome and enjoy the day and stop by to say hello. Hope to see you there!
URL:https://judysharer.com/event/quilting-on-the-bayfront-judy-sharer-book-signing/
LOCATION:Bayfront Convention Center in Erie\, PA\, 1 Sassafras Pier\, Erie\, PA
END:VEVENT
BEGIN:VEVENT
DTSTART;TZID=America/New_York:20181010T170000
DTEND;TZID=America/New_York:20181010T200000
DTSTAMP:20260422T153058
CREATED:20180912T180126Z
LAST-MODIFIED:20180912T180126Z
UID:399-1539190800-1539201600@judysharer.com
SUMMARY:Warren Co. Library -Book Signing - Settler's Life
DESCRIPTION:Join author Judy Sharer on Wednesday\, October 10th any time between 5pm and 8pm at the lobby of the Warren Co. Library.\nJudy will be signing her new release\, Settler’s Life\, the first book in her series A Plains Life. The interesting fact of this novel is that the main family is from Tidioute\, PA.\n\nMark your calendar and bring your copy that can now be order online at Amazon.com or any other online retailer. Order now so your copy will arrive on time. Judy will have a limited number of books with her for sale.\nCome say hello and have your novel signed by the author.\nSee you there!
URL:https://judysharer.com/event/warren-co-library-book-signing-settlers-life/
LOCATION:Warren Co. Library\, 205 Market Street\, Warren\, PA\, 16365
END:VEVENT
BEGIN:VEVENT
DTSTART;TZID=America/New_York:20181006T110000
DTEND;TZID=America/New_York:20181006T130000
DTSTAMP:20260422T153058
CREATED:20180911T185004Z
LAST-MODIFIED:20180912T173307Z
UID:386-1538823600-1538830800@judysharer.com
SUMMARY:Judy Sharer book signing at Tattered Corners
DESCRIPTION:Judy Sharer\, author of Settler’s Life\, book one in the family saga series A Plains Life is hosting a book signing at Tattered Corners Book Store in Meadville\, PA on October 6\, 2018.\n\nMeet Judy from 11am until 1pm. Books available for purchase at the store. Drop in and say hello. Add a few books to your reading list or cross a few off. Either way Judy would love to meet you.
URL:https://judysharer.com/event/settlers-life-book-signing-tattered-corners-meadville-pa/
LOCATION:PA
END:VEVENT
BEGIN:VEVENT
DTSTART;TZID=America/New_York:20181003T173000
DTEND;TZID=America/New_York:20181003T190000
DTSTAMP:20260422T153058
CREATED:20180911T180714Z
LAST-MODIFIED:20180912T183647Z
UID:376-1538587800-1538593200@judysharer.com
SUMMARY:Tidioute Book Signing for Settler's Life
DESCRIPTION:Judy Sharer\, author of Settler’s Life\, book one in the family saga series\, A Plains Life is hosting a reading and book signing. Join Judy at the Tidioute Public Library on October 3\, 2018\nAuthor Reading at 5:30pm and Book Signing from 6pm-7pm.\nThe interesting fact about this novel is the main family in this book is from Tidioute\, PA\nBring your books for signing and meet Judy. She will also have a few books available for purchase.\nLight refreshments will be served.
URL:https://judysharer.com/event/tidioute-book-signing-for-settlers-life/
LOCATION:PA
END:VEVENT
END:VCALENDAR